BEGIN:VCALENDAR
VERSION:2.0
PRODID:icalendar-ruby
CALSCALE:GREGORIAN
METHOD:PUBLISH
BEGIN:VEVENT
DTSTAMP:20260422T083942Z
UID:11-69056@greentreecf.com
DTSTART:20260719T150000Z
DTEND:20260719T170000Z
CLASS:PUBLIC
CREATED:20260421T185754
DESCRIPTION:Breakfast @ 8:00\n \nSunday School @ 9:00\n \nWorship and Wor
 d @ 10:00
LAST-MODIFIED:20260421T185754
LOCATION:
SUMMARY:Sunday Service
URL;VALUE=URI:https://greentreecf.com/events/sunday-service/2026-07-19
ATTACH;FILENAME=Flower.jpg;FMTTYPE=image/jpeg:https://dq5pwpg1q8ru0.cloudfr
 ont.net/2025/11/12/16/00/22/f96093b4-f2d6-4698-ac79-e0beba430263/Flower.jp
 g
END:VEVENT
END:VCALENDAR
